Workbook

Sheet Rekapitulácia
A2: Rekapitulácia rozpočtu | F2: Sadzby DPH
A3: Stavba Obec Žalobin - spevnené plochy | F3: A | G3: B
F4: 0.2 | G4: 0
A6: Názov objektu | B6: ZRN | C6: VRN % | D6: HZS | E6: Kompl.čin. | F6: Ost. náklady | G6: Cena
A7: 01 - Základná škola -spevnená plocha | B7: ='SO 14973'!I106-Rekapitulácia!D7 -> 0 | C7: ='SO 14973'!P25 -> 0 | D7: 0 | E7: ='SO 14973'!P16 -> 0 | F7: 0 | G7: =B7+C7+D7+E7+F7 -> 0 | K7: ='SO 14973'!K106 -> 0 | Q7: 30.126
A8: 02 - Miestna komunikácia | B8: ='SO 14974'!I94-Rekapitulácia!D8 -> 0 | C8: ='SO 14974'!P25 -> 0 | D8: 0 | E8: ='SO 14974'!P16 -> 0 | F8: 0 | G8: =B8+C8+D8+E8+F8 -> 0 | K8: ='SO 14974'!K94 -> 0 | Q8: 30.126
A9: Celkom bez DPH | B9: =SUM(B7:B8) -> 0 | C9: =SUM(C7:C8) -> 0 | D9: =SUM(D7:D8) -> 0 | E9: =SUM(E7:E8) -> 0 | F9: =SUM(F7:F8) -> 0 | G9: =SUM(G7:G8)-SUM(Z7:Z8) -> 0
A10: DPH 20% z | B10: =G9-SUM(Rekapitulácia!K7:'Rekapitulácia'!K8)*1 -> 0 | G10: =ROUND(((ROUND(B10,2)*20)/100),2)*1 -> 0
A11: DPH 0% z | B11: =(G9-B10) -> 0 | G11: =ROUND(((ROUND(B11,2)*0)/100),2) -> 0
A12: Celkom v EUR | G12: =SUM(G9:G11) -> 0

Sheet SO 14973
B1: Krycí list rozpočtu | E1: Rekapitulácia rozpočtu | H1: Rozpočet | W1: 30.126
B2: Krycí list rozpočtu
B3: Stavba Obec Žalobin - spevnené plochy
B4: Objekt 01 - Základná škola -spevnená plocha | F4: Miesto:
F5: Ks:
B6: Zákazka: | D6: Spracoval: Ing. Ján Halgaš | F6: Dňa | G6: 24. 8. 2020
B7: Odberateľ: Obec Žalobín
B8: IČO: | F8: DIČ:
B9: Projektant:
B10: IČO: | F10: DIČ:
B11: Dodávateľ:
B12: IČO: | F12: DIČ:
B14: ZRN | C14: Montáž | D14: Materiál | E14: ZRN spolu | F14: Ďalšie náklady
B15: HSV | C15: ='SO 14973'!E60 -> 0 | D15: ='SO 14973'!F60 -> 0 | E15: ='SO 14973'!G60 -> 0 | F15: Ostatné náklady | P15: 0
B16: PSV | F16: Komplet. činnosť | P16: =(SUM(Z77:Z105)) -> 0
B17: MONT | F17: HZS | P17: 0
B18: VRN
B19: Spolu | E19: =SUM(E15:E18) -> 0 | F19: Spolu | P19: =SUM(P15:P18) -> 0
B20: VRN | F20: VRN
B21: Zariadenie staveniska 0% | E21: =((E15*U22*0)+(E16*V22*0)+(E17*W22*0))/100 -> 0 | F21: Sťažené podmienky dopravy 0% | P21: =((E15*X22*0)+(E16*Y22*0)+(E17*Z22*0))/100 -> 0
B22: Sťažené výrobné podmienky 0% | E22: =((E15*U23*0)+(E16*V23*0)+(E17*W23*0))/100 -> 0 | F22: Horské oblasti 0% | P22: =((E15*X23*0)+(E16*Y23*0)+(E17*Z23*0))/100 -> 0 | U22: 1 | V22: 1 | W22: 1 | X22: 1 | Y22: 1 | Z22: 1
B23: Prevádzkové vplyvy 0% | E23: =((E15*U24*0)+(E16*V24*0)+(E17*W24*0))/100 -> 0 | F23: Mimostavenisková doprava 0% | P23: =((E15*X24*0)+(E16*Y24*0)+(E17*Z24*0))/100 -> 0 | U23: 1 | V23: 1 | W23: 0 | X23: 1 | Y23: 1 | Z23: 1
U24: 1 | V24: 1 | W24: 1 | X24: 1 | Y24: 1 | Z24: 0
F25: Spolu | P25: =SUM(E21:E24)+SUM(P21:P24) -> 0
B26: Projektant,rozpočtár | F26: Celkové náklady
F27: Celkové náklady bez DPH | P27: =E19+P19+E25+P25 -> 0
F28: DPH 20% z | H28: =P27-SUM('SO 14973'!K77:'SO 14973'!K105) -> 0 | P28: =ROUND(((ROUND(H28,2)*20)*1/100),2) -> 0
F29: DPH 0% z | H29: =SUM('SO 14973'!K77:'SO 14973'!K105) -> 0 | P29: =ROUND(((ROUND(H29,2)*0)/100),2) -> 0
F30: Spolu v EUR | P30: =SUM(P27:P29) -> 0
B32: Odberateľ | E32: Dodávateľ
B44: Rekapitulácia rozpočtu
B46: Odberateľ: Obec Žalobín | F46: Spracoval: Ing. Ján Halgaš
B47: Projektant: | F47: Ks:
B48: Dodávateľ: | F48: Dátum: 24. 8. 2020
B49: Stavba Obec Žalobin - spevnené plochy
B50: Objekt 01 - Základná škola -spevnená plocha
B53: Prehľad rozpočtových nákladov
B54: Oddiel | E54: Montáž | F54: Materiál | G54: Spolu | H54: Hmotnosť (T) | I54: Suť (T)
B55: Práce HSV
B56: ZEMNÉ PRÁCE | E56: ='SO 14973'!L84 -> 0 | F56: ='SO 14973'!M84 -> 0 | G56: ='SO 14973'!I84 -> 0 | H56: ='SO 14973'!S84 -> 0 | I56: ='SO 14973'!V84 -> 0
B57: SPEVNENÉ PLOCHY | E57: ='SO 14973'!L90 -> 0 | F57: ='SO 14973'!M90 -> 0 | G57: ='SO 14973'!I90 -> 0 | H57: ='SO 14973'!S90 -> 0 | I57: ='SO 14973'!V90 -> 0
B58: OSTATNÉ PRÁCE | E58: ='SO 14973'!L99 -> 0 | F58: ='SO 14973'!M99 -> 0 | G58: ='SO 14973'!I99 -> 0 | H58: ='SO 14973'!S99 -> 2.94 | I58: ='SO 14973'!V99 -> 0
B59: PRESUNY HMÔT | E59: ='SO 14973'!L103 -> 0 | F59: ='SO 14973'!M103 -> 0 | G59: ='SO 14973'!I103 -> 0 | H59: ='SO 14973'!S103 -> 0 | I59: ='SO 14973'!V103 -> 0
B60: Práce HSV | E60: ='SO 14973'!L105 -> 0 | F60: ='SO 14973'!M105 -> 0 | G60: ='SO 14973'!I105 -> 0 | H60: ='SO 14973'!S105 -> 2.94 | I60: ='SO 14973'!V105 -> 0
B62: Celkom v EUR | E62: ='SO 14973'!L106 -> 0 | F62: ='SO 14973'!M106 -> 0 | G62: ='SO 14973'!I106 -> 0 | H62: ='SO 14973'!S106 -> 2.94 | I62: ='SO 14973'!V106 -> 0
B66: Rozpočet
B68: Odberateľ: Obec Žalobín | H68: Spracoval: | I68: Ing. Ján Halgaš
B69: Projektant: | H69: Ks:
B70: Dodávateľ: | H70: Dátum: | I70: 24. 8. 2020
B71: Zákazka Obec Žalobin - spevnené plochy
B72: Objekt 01 - Základná škola -spevnená plocha
B75: Prehľad rozpočtových nákladov
B76: Por.č. | C76: Kód položky | D76: Názov | F76: Mj | G76: Množstvo | H76: Cena/Mj | I76: Cena celkom | P76: Hmotnosť/Mj | S76: Hmotnosť | V76: Suť
D77: Práce HSV
C78: 1 | D78: ZEMNÉ PRÁCE
B79: 1 | C79: 113107141 | D79: Odstránenie krytuv ploche do 200 m2 asfaltového, hr. vrstvy do 50 mm, -0,09800t | F79: m2 | G79: 269.3 | I79: =ROUND(G79*(H79),2) -> 0 | J79: =ROUND(G79*(N79),2) -> 867.15 | K79: =ROUND(G79*(O79),2) -> 0 | L79: =ROUND(G79*(H79),2) -> 0 | N79: 3.22 | S79: =ROUND(G79*(P79),3) -> 0 | Z79: 0
B80: 2 | C80: 113206111 | D80: Vytrhanie obrúb betónových, s vybúraním lôžka, z krajníkov alebo obrubníkov stojatých, -0,14500t | F80: m | G80: 104 | I80: =ROUND(G80*(H80),2) -> 0 | J80: =ROUND(G80*(N80),2) -> 242.32 | K80: =ROUND(G80*(O80),2) -> 0 | L80: =ROUND(G80*(H80),2) -> 0 | N80: 2.33 | S80: =ROUND(G80*(P80),3) -> 0 | Z80: 0
B81: 3 | C81: 132201101 | D81: Výkop ryhy do šírky 600 mm v horn.3 do 100 m3 | F81: m3 | G81: 2.7 | I81: =ROUND(G81*(H81),2) -> 0 | J81: =ROUND(G81*(N81),2) -> 75.71 | K81: =ROUND(G81*(O81),2) -> 0 | L81: =ROUND(G81*(H81),2) -> 0 | N81: 28.04 | S81: =ROUND(G81*(P81),3) -> 0 | Z81: 0
B82: 4 | C82: 132201109 | D82: Príplatok k cene za lepivosť pri hĺbení rýh šírky do 600 mm zapažených i nezapažených s urovnaním dna v hornine 3 | F82: m3 | G82: 2.7 | I82: =ROUND(G82*(H82),2) -> 0 | J82: =ROUND(G82*(N82),2) -> 21.41 | K82: =ROUND(G82*(O82),2) -> 0 | L82: =ROUND(G82*(H82),2) -> 0 | N82: 7.93 | S82: =ROUND(G82*(P82),3) -> 0 | Z82: 0
B83: 5 | C83: 162301101 | D83: Vodorovné premiestnenie výkopku po spevnenej ceste z horniny tr.1-4, do 100 m3 na vzdialenosť do 500 m | F83: m3 | G83: 2.7 | I83: =ROUND(G83*(H83),2) -> 0 | J83: =ROUND(G83*(N83),2) -> 5.51 | K83: =ROUND(G83*(O83),2) -> 0 | L83: =ROUND(G83*(H83),2) -> 0 | N83: 2.04 | S83: =ROUND(G83*(P83),3) -> 0 | Z83: 0
C84: 1 | D84: ZEMNÉ PRÁCE | I84: =ROUND((SUM(I78:I83))/1,2) -> 0 | L84: =ROUND((SUM(L78:L83))/1,2) -> 0 | M84: =ROUND((SUM(M78:M83))/1,2) -> 0 | S84: =ROUND((SUM(S78:S83))/1,2) -> 0 | V84: =ROUND((SUM(V78:V83))/1,2) -> 0
C86: 5 | D86: SPEVNENÉ PLOCHY
B87: 6 | C87: 572754111 | D87: Vyrovnanie povrchu doterajších krytov asfaltovým betónom AC hr. od 20 do 40 mm | F87: m2 | G87: 83 | I87: =ROUND(G87*(H87),2) -> 0 | J87: =ROUND(G87*(N87),2) -> 898.89 | K87: =ROUND(G87*(O87),2) -> 0 | M87: =ROUND(G87*(H87),2) -> 0 | N87: 10.83 | S87: =ROUND(G87*(P87),3) -> 0 | Z87: 0
B88: 7 | C88: 572754112 | D88: Vyrovnanie povrchu doterajších krytov asfaltovým betónom AC hr. nad 40 do 60 mm | F88: m2 | G88: 83 | I88: =ROUND(G88*(H88),2) -> 0 | J88: =ROUND(G88*(N88),2) -> 1293.14 | K88: =ROUND(G88*(O88),2) -> 0 | L88: =ROUND(G88*(H88),2) -> 0 | N88: 15.58 | S88: =ROUND(G88*(P88),3) -> 0 | Z88: 0
B89: 8 | C89: 577134131 | D89: Asfaltový betón vrstva obrusná AC 8 O v pruhu š. do 3 m z modifik. asfaltu tr. II, po zhutnení hr. 40 mm | F89: m2 | G89: 604.9 | I89: =ROUND(G89*(H89),2) -> 0 | J89: =ROUND(G89*(N89),2) -> 6049 | K89: =ROUND(G89*(O89),2) -> 0 | L89: =ROUND(G89*(H89),2) -> 0 | N89: 10 | S89: =ROUND(G89*(P89),3) -> 0 | Z89: 0
C90: 5 | D90: SPEVNENÉ PLOCHY | I90: =ROUND((SUM(I86:I89))/1,2) -> 0 | L90: =ROUND((SUM(L86:L89))/1,2) -> 0 | M90: =ROUND((SUM(M86:M89))/1,2) -> 0 | S90: =ROUND((SUM(S86:S89))/1,2) -> 0 | V90: =ROUND((SUM(V86:V89))/1,2) -> 0
C92: 9 | D92: OSTATNÉ PRÁCE
B93: 9 | C93: 916561111 | D93: Osadenie záhonového alebo parkového obrubníka betón., do lôžka z bet. pros. tr. C 12/15 s bočnou oporou | F93: m | G93: 30 | I93: =ROUND(G93*(H93),2) -> 0 | J93: =ROUND(G93*(N93),2) -> 166.2 | K93: =ROUND(G93*(O93),2) -> 0 | L93: =ROUND(G93*(H93),2) -> 0 | N93: 5.54 | P93: 0.09796 | R93: 0.09796 | S93: =ROUND(G93*(P93),3) -> 2.939 | Z93: 0
B94: 10 | C94: 592170002900 | D94: Obrubník SEMMELROCK alebo ekvivalent parkový, lxšxv 1000x50x200 mm, sivá | F94: ks | G94: 30.3 | I94: =ROUND(G94*(H94),2) -> 0 | J94: =ROUND(G94*(N94),2) -> 86.96 | K94: =ROUND(G94*(O94),2) -> 0 | M94: =ROUND(G94*(H94),2) -> 0 | N94: 2.87 | S94: =ROUND(G94*(P94),3) -> 0 | Z94: 0
B95: 11 | C95: 918101112 | D95: Lôžko pod obrubníky, krajníky alebo obruby z dlažobných kociek z betónu prostého tr. C 16/20 | F95: m3 | G95: 2.7 | I95: =ROUND(G95*(H95),2) -> 0 | J95: =ROUND(G95*(N95),2) -> 285.69 | K95: =ROUND(G95*(O95),2) -> 0 | L95: =ROUND(G95*(H95),2) -> 0 | N95: 105.81 | S95: =ROUND(G95*(P95),3) -> 0 | Z95: 0
B96: 12 | C96: 979084216 | D96: Vodorovná doprava vybúraných hmôt po suchu bez naloženia, ale so zložením na vzdialenosť do 5 km | F96: t | G96: 41.471 | I96: =ROUND(G96*(H96),2) -> 0 | J96: =ROUND(G96*(N96),2) -> 1002.35 | K96: =ROUND(G96*(O96),2) -> 0 | L96: =ROUND(G96*(H96),2) -> 0 | N96: 24.17 | S96: =ROUND(G96*(P96),3) -> 0 | Z96: 0
B97: 13 | C97: 979087213 | D97: Nakladanie na dopravné prostriedky pre vodorovnú dopravu vybúraných hmôt | F97: t | G97: 41.471 | I97: =ROUND(G97*(H97),2) -> 0 | J97: =ROUND(G97*(N97),2) -> 971.25 | K97: =ROUND(G97*(O97),2) -> 0 | L97: =ROUND(G97*(H97),2) -> 0 | N97: 23.42 | S97: =ROUND(G97*(P97),3) -> 0 | Z97: 0
B98: 14 | C98: 979089212 | D98: Poplatok za skladovanie - bitúmenové zmesi, uholný decht, dechtové výrobky (17 03 ), ostatné | F98: t | G98: 41.471 | I98: =ROUND(G98*(H98),2) -> 0 | J98: =ROUND(G98*(N98),2) -> 0 | K98: =ROUND(G98*(O98),2) -> 0 | N98: 0 | S98: =ROUND(G98*(P98),3) -> 0 | Z98: 0
C99: 9 | D99: OSTATNÉ PRÁCE | I99: =ROUND((SUM(I92:I98))/1,2) -> 0 | L99: =ROUND((SUM(L92:L98))/1,2) -> 0 | M99: =ROUND((SUM(M92:M98))/1,2) -> 0 | S99: =ROUND((SUM(S92:S98))/1,2) -> 2.94 | V99: =ROUND((SUM(V92:V98))/1,2) -> 0
C101: 99 | D101: PRESUNY HMÔT
B102: 15 | C102: 998225111 | D102: Presun hmôt pre pozemnú komunikáciu a letisko s krytom asfaltovým akejkoľvek dĺžky objektu | F102: t | G102: 93.956 | I102: =ROUND(G102*(H102),2) -> 0 | J102: =ROUND(G102*(N102),2) -> 230.19 | K102: =ROUND(G102*(O102),2) -> 0 | L102: =ROUND(G102*(H102),2) -> 0 | N102: 2.45 | S102: =ROUND(G102*(P102),3) -> 0 | Z102: 0
C103: 99 | D103: PRESUNY HMÔT | I103: =ROUND((SUM(I101:I102))/1,2) -> 0 | L103: =ROUND((SUM(L101:L102))/1,2) -> 0 | M103: =ROUND((SUM(M101:M102))/1,2) -> 0 | S103: =ROUND((SUM(S101:S102))/1,2) -> 0 | V103: =ROUND((SUM(V101:V102))/1,2) -> 0
D105: Práce HSV | I105: =ROUND((SUM(I77:I104))/2,2) -> 0 | L105: =ROUND((SUM(L77:L104))/2,2) -> 0 | M105: =ROUND((SUM(M77:M104))/2,2) -> 0 | S105: =ROUND((SUM(S77:S104))/2,2) -> 2.94 | V105: =ROUND((SUM(V77:V104))/2,2) -> 0
D106: Celkom v EUR | I106: =ROUND((SUM(I77:I105))/3,2) -> 0 | K106: =ROUND((SUM(K77:K105))/3,2) -> 0 | L106: =ROUND((SUM(L77:L105))/3,2) -> 0 | M106: =ROUND((SUM(M77:M105))/3,2) -> 0 | S106: =ROUND((SUM(S77:S105))/3,2) -> 2.94 | V106: =ROUND((SUM(V77:V105))/3,2) -> 0 | Z106: =(SUM(Z77:Z105)) -> 0

Sheet SO 14974
B1: Krycí list rozpočtu | E1: Rekapitulácia rozpočtu | H1: Rozpočet | W1: 30.126
B2: Krycí list rozpočtu
B3: Stavba Obec Žalobin - spevnené plochy
B4: Objekt 02 - Miestna komunikácia | F4: Miesto:
F5: Ks:
B6: Zákazka: | D6: Spracoval: Ing. Ján Halgaš | F6: Dňa | G6: 24. 8. 2020
B7: Odberateľ: Obec Žalobín
B8: IČO: | F8: DIČ:
B9: Projektant:
B10: IČO: | F10: DIČ:
B11: Dodávateľ:
B12: IČO: | F12: DIČ:
B14: ZRN | C14: Montáž | D14: Materiál | E14: ZRN spolu | F14: Ďalšie náklady
B15: HSV | C15: ='SO 14974'!E59 -> 0 | D15: ='SO 14974'!F59 -> 0 | E15: ='SO 14974'!G59 -> 0 | F15: Ostatné náklady | P15: 0
B16: PSV | F16: Komplet. činnosť | P16: =(SUM(Z76:Z93)) -> 0
B17: MONT | F17: HZS | P17: 0
B18: VRN
B19: Spolu | E19: =SUM(E15:E18) -> 0 | F19: Spolu | P19: =SUM(P15:P18) -> 0
B20: VRN | F20: VRN
B21: Zariadenie staveniska 0% | E21: =((E15*U22*0)+(E16*V22*0)+(E17*W22*0))/100 -> 0 | F21: Sťažené podmienky dopravy 0% | P21: =((E15*X22*0)+(E16*Y22*0)+(E17*Z22*0))/100 -> 0
B22: Sťažené výrobné podmienky 0% | E22: =((E15*U23*0)+(E16*V23*0)+(E17*W23*0))/100 -> 0 | F22: Horské oblasti 0% | P22: =((E15*X23*0)+(E16*Y23*0)+(E17*Z23*0))/100 -> 0 | U22: 1 | V22: 1 | W22: 1 | X22: 1 | Y22: 1 | Z22: 1
B23: Prevádzkové vplyvy 0% | E23: =((E15*U24*0)+(E16*V24*0)+(E17*W24*0))/100 -> 0 | F23: Mimostavenisková doprava 0% | P23: =((E15*X24*0)+(E16*Y24*0)+(E17*Z24*0))/100 -> 0 | U23: 1 | V23: 1 | W23: 0 | X23: 1 | Y23: 1 | Z23: 1
U24: 1 | V24: 1 | W24: 1 | X24: 1 | Y24: 1 | Z24: 0
F25: Spolu | P25: =SUM(E21:E24)+SUM(P21:P24) -> 0
B26: Projektant,rozpočtár | F26: Celkové náklady
F27: Celkové náklady bez DPH | P27: =E19+P19+E25+P25 -> 0
F28: DPH 20% z | H28: =P27-SUM('SO 14974'!K76:'SO 14974'!K93) -> 0 | P28: =ROUND(((ROUND(H28,2)*20)*1/100),2) -> 0
F29: DPH 0% z | H29: =SUM('SO 14974'!K76:'SO 14974'!K93) -> 0 | P29: =ROUND(((ROUND(H29,2)*0)/100),2) -> 0
F30: Spolu v EUR | P30: =SUM(P27:P29) -> 0
B32: Odberateľ | E32: Dodávateľ
B44: Rekapitulácia rozpočtu
B46: Odberateľ: Obec Žalobín | F46: Spracoval: Ing. Ján Halgaš
B47: Projektant: | F47: Ks:
B48: Dodávateľ: | F48: Dátum: 24. 8. 2020
B49: Stavba Obec Žalobin - spevnené plochy
B50: Objekt 02 - Miestna komunikácia
B53: Prehľad rozpočtových nákladov
B54: Oddiel | E54: Montáž | F54: Materiál | G54: Spolu | H54: Hmotnosť (T) | I54: Suť (T)
B55: Práce HSV
B56: ZEMNÉ PRÁCE | E56: ='SO 14974'!L81 -> 0 | F56: ='SO 14974'!M81 -> 0 | G56: ='SO 14974'!I81 -> 0 | H56: ='SO 14974'!S81 -> 0 | I56: ='SO 14974'!V81 -> 0
B57: SPEVNENÉ PLOCHY | E57: ='SO 14974'!L87 -> 0 | F57: ='SO 14974'!M87 -> 0 | G57: ='SO 14974'!I87 -> 0 | H57: ='SO 14974'!S87 -> 34 | I57: ='SO 14974'!V87 -> 0
B58: OSTATNÉ PRÁCE | E58: ='SO 14974'!L91 -> 0 | F58: ='SO 14974'!M91 -> 0 | G58: ='SO 14974'!I91 -> 0 | H58: ='SO 14974'!S91 -> 0 | I58: ='SO 14974'!V91 -> 0
B59: Práce HSV | E59: ='SO 14974'!L93 -> 0 | F59: ='SO 14974'!M93 -> 0 | G59: ='SO 14974'!I93 -> 0 | H59: ='SO 14974'!S93 -> 34 | I59: ='SO 14974'!V93 -> 0
B61: Celkom v EUR | E61: ='SO 14974'!L94 -> 0 | F61: ='SO 14974'!M94 -> 0 | G61: ='SO 14974'!I94 -> 0 | H61: ='SO 14974'!S94 -> 34 | I61: ='SO 14974'!V94 -> 0
B65: Rozpočet
B67: Odberateľ: Obec Žalobín | H67: Spracoval: | I67: Ing. Ján Halgaš
B68: Projektant: | H68: Ks:
B69: Dodávateľ: | H69: Dátum: | I69: 24. 8. 2020
B70: Zákazka Obec Žalobin - spevnené plochy
B71: Objekt 02 - Miestna komunikácia
B74: Prehľad rozpočtových nákladov
B75: Por.č. | C75: Kód položky | D75: Názov | F75: Mj | G75: Množstvo | H75: Cena/Mj | I75: Cena celkom | P75: Hmotnosť/Mj | S75: Hmotnosť | V75: Suť
D76: Práce HSV
C77: 1 | D77: ZEMNÉ PRÁCE
B78: 1 | C78: 122201101 | D78: Odkopávka a prekopávka nezapažená v hornine 3, do 100 m3 | F78: m3 | G78: 28 | I78: =ROUND(G78*(H78),2) -> 0 | J78: =ROUND(G78*(N78),2) -> 175.28 | K78: =ROUND(G78*(O78),2) -> 0 | L78: =ROUND(G78*(H78),2) -> 0 | N78: 6.26 | S78: =ROUND(G78*(P78),3) -> 0 | Z78: 0
B79: 2 | C79: 122201109 | D79: Odkopávky a prekopávky nezapažené. Príplatok k cenám za lepivosť horniny 3 | F79: m3 | G79: 28 | I79: =ROUND(G79*(H79),2) -> 0 | J79: =ROUND(G79*(N79),2) -> 29.12 | K79: =ROUND(G79*(O79),2) -> 0 | L79: =ROUND(G79*(H79),2) -> 0 | N79: 1.04 | S79: =ROUND(G79*(P79),3) -> 0 | Z79: 0
B80: 3 | C80: 162301101 | D80: Vodorovné premiestnenie výkopku po spevnenej ceste z horniny tr.1-4, do 100 m3 na vzdialenosť do 500 m | F80: m3 | G80: 28 | I80: =ROUND(G80*(H80),2) -> 0 | J80: =ROUND(G80*(N80),2) -> 57.12 | K80: =ROUND(G80*(O80),2) -> 0 | L80: =ROUND(G80*(H80),2) -> 0 | N80: 2.04 | S80: =ROUND(G80*(P80),3) -> 0 | Z80: 0
C81: 1 | D81: ZEMNÉ PRÁCE | I81: =ROUND((SUM(I77:I80))/1,2) -> 0 | L81: =ROUND((SUM(L77:L80))/1,2) -> 0 | M81: =ROUND((SUM(M77:M80))/1,2) -> 0 | S81: =ROUND((SUM(S77:S80))/1,2) -> 0 | V81: =ROUND((SUM(V77:V80))/1,2) -> 0
C83: 5 | D83: SPEVNENÉ PLOCHY
B84: 4 | C84: 564760211 | D84: Podklad alebo kryt z kameniva hrubého drveného veľ. 0-32 mm s rozprestretím a zhutnením hr. 200 mm | F84: m2 | G84: 70 | I84: =ROUND(G84*(H84),2) -> 0 | J84: =ROUND(G84*(N84),2) -> 625.8 | K84: =ROUND(G84*(O84),2) -> 0 | M84: =ROUND(G84*(H84),2) -> 0 | N84: 8.94 | S84: =ROUND(G84*(P84),3) -> 0 | Z84: 0
B85: 5 | C85: 564762111 | D85: Podklad alebo kryt z kameniva hrubého drveného veľ. 32-63 mm (vibr.štrk) po zhut.hr. 200 mm | F85: m2 | G85: 70 | I85: =ROUND(G85*(H85),2) -> 0 | J85: =ROUND(G85*(N85),2) -> 607.6 | K85: =ROUND(G85*(O85),2) -> 0 | L85: =ROUND(G85*(H85),2) -> 0 | N85: 8.68 | P85: 0.48574 | R85: 0.48574 | S85: =ROUND(G85*(P85),3) -> 34.002 | Z85: 0
B86: 6 | C86: 577144131 | D86: Asfaltový betón vrstva obrusná AC 8 O v pruhu š. do 3 m z modifik. asfaltu tr. II, po zhutnení hr. 50 mm | F86: m2 | G86: 520 | I86: =ROUND(G86*(H86),2) -> 0 | J86: =ROUND(G86*(N86),2) -> 6364.8 | K86: =ROUND(G86*(O86),2) -> 0 | L86: =ROUND(G86*(H86),2) -> 0 | N86: 12.24 | S86: =ROUND(G86*(P86),3) -> 0 | Z86: 0
C87: 5 | D87: SPEVNENÉ PLOCHY | I87: =ROUND((SUM(I83:I86))/1,2) -> 0 | L87: =ROUND((SUM(L83:L86))/1,2) -> 0 | M87: =ROUND((SUM(M83:M86))/1,2) -> 0 | S87: =ROUND((SUM(S83:S86))/1,2) -> 34 | V87: =ROUND((SUM(V83:V86))/1,2) -> 0
C89: 9 | D89: OSTATNÉ PRÁCE
B90: 7 | C90: 998225111 | D90: Presun hmôt pre pozemnú komunikáciu a letisko s krytom asfaltovým akejkoľvek dĺžky objektu | F90: t | G90: 129.285 | I90: =ROUND(G90*(H90),2) -> 0 | J90: =ROUND(G90*(N90),2) -> 316.75 | K90: =ROUND(G90*(O90),2) -> 0 | L90: =ROUND(G90*(H90),2) -> 0 | N90: 2.45 | S90: =ROUND(G90*(P90),3) -> 0 | Z90: 0
C91: 9 | D91: OSTATNÉ PRÁCE | I91: =ROUND((SUM(I89:I90))/1,2) -> 0 | L91: =ROUND((SUM(L89:L90))/1,2) -> 0 | M91: =ROUND((SUM(M89:M90))/1,2) -> 0 | S91: =ROUND((SUM(S89:S90))/1,2) -> 0 | V91: =ROUND((SUM(V89:V90))/1,2) -> 0
D93: Práce HSV | I93: =ROUND((SUM(I76:I92))/2,2) -> 0 | L93: =ROUND((SUM(L76:L92))/2,2) -> 0 | M93: =ROUND((SUM(M76:M92))/2,2) -> 0 | S93: =ROUND((SUM(S76:S92))/2,2) -> 34 | V93: =ROUND((SUM(V76:V92))/2,2) -> 0
D94: Celkom v EUR | I94: =ROUND((SUM(I76:I93))/3,2) -> 0 | K94: =ROUND((SUM(K76:K93))/3,2) -> 0 | L94: =ROUND((SUM(L76:L93))/3,2) -> 0 | M94: =ROUND((SUM(M76:M93))/3,2) -> 0 | S94: =ROUND((SUM(S76:S93))/3,2) -> 34 | V94: =ROUND((SUM(V76:V93))/3,2) -> 0 | Z94: =(SUM(Z76:Z93)) -> 0
