Workbook

Sheet Rekapitulácia
A2: Rekapitulácia rozpočtu | F2: Sadzby DPH
A3: Stavba Obec Žalobin - spevnené plochy | F3: A | G3: B
F4: 0.2 | G4: 0
A6: Názov objektu | B6: ZRN | C6: VRN % | D6: HZS | E6: Kompl.čin. | F6: Ost. náklady | G6: Cena
A7: 01 - Základná škola -spevnená plocha | B7: ='SO 14973'!I106-Rekapitulácia!D7 -> 0 | C7: ='SO 14973'!P25 -> 0 | D7: 0 | E7: ='SO 14973'!P16 -> 0 | F7: 0 | G7: =B7+C7+D7+E7+F7 -> 0 | K7: ='SO 14973'!K106 -> 0 | Q7: 30.126
A8: 02 - Miestna komunikácia | B8: ='SO 14974'!I94-Rekapitulácia!D8 -> 0 | C8: ='SO 14974'!P25 -> 0 | D8: 0 | E8: ='SO 14974'!P16 -> 0 | F8: 0 | G8: =B8+C8+D8+E8+F8 -> 0 | K8: ='SO 14974'!K94 -> 0 | Q8: 30.126
A9: Celkom bez DPH | B9: =SUM(B7:B8) -> 0 | C9: =SUM(C7:C8) -> 0 | D9: =SUM(D7:D8) -> 0 | E9: =SUM(E7:E8) -> 0 | F9: =SUM(F7:F8) -> 0 | G9: =SUM(G7:G8)-SUM(Z7:Z8) -> 0
A10: DPH 20% z | B10: =G9-SUM(Rekapitulácia!K7:'Rekapitulácia'!K8)*1 -> 0 | G10: =ROUND(((ROUND(B10,2)*20)/100),2)*1 -> 0
A11: DPH 0% z | B11: =(G9-B10) -> 0 | G11: =ROUND(((ROUND(B11,2)*0)/100),2) -> 0
A12: Celkom v EUR | G12: =SUM(G9:G11) -> 0

Sheet SO 14973
B1: Krycí list rozpočtu | E1: Rekapitulácia rozpočtu | H1: Rozpočet | W1: 30.126
B2: Krycí list rozpočtu
B3: Stavba Obec Žalobin - spevnené plochy
B4: Objekt 01 - Základná škola -spevnená plocha | F4: Miesto:
F5: Ks:
B6: Zákazka: | D6: Spracoval: Ing. Ján Halgaš | F6: Dňa | G6: 24. 8. 2020
B7: Odberateľ: Obec Žalobín
B8: IČO: | F8: DIČ:
B9: Projektant:
B10: IČO: | F10: DIČ:
B11: Dodávateľ:
B12: IČO: | F12: DIČ:
B14: ZRN | C14: Montáž | D14: Materiál | E14: ZRN spolu | F14: Ďalšie náklady
B15: HSV | C15: ='SO 14973'!E60 -> 0 | D15: ='SO 14973'!F60 -> 0 | E15: ='SO 14973'!G60 -> 0 | F15: Ostatné náklady | P15: 0
B16: PSV | F16: Komplet. činnosť | P16: =(SUM(Z77:Z105)) -> 0
B17: MONT | F17: HZS | P17: 0
B18: VRN
B19: Spolu | E19: =SUM(E15:E18) -> 0 | F19: Spolu | P19: =SUM(P15:P18) -> 0
B20: VRN | F20: VRN
B21: Zariadenie staveniska 0% | E21: =((E15*U22*0)+(E16*V22*0)+(E17*W22*0))/100 -> 0 | F21: Sťažené podmienky dopravy 0% | P21: =((E15*X22*0)+(E16*Y22*0)+(E17*Z22*0))/100 -> 0
B22: Sťažené výrobné podmienky 0% | E22: =((E15*U23*0)+(E16*V23*0)+(E17*W23*0))/100 -> 0 | F22: Horské oblasti 0% | P22: =((E15*X23*0)+(E16*Y23*0)+(E17*Z23*0))/100 -> 0 | U22: 1 | V22: 1 | W22: 1 | X22: 1 | Y22: 1 | Z22: 1
B23: Prevádzkové vplyvy 0% | E23: =((E15*U24*0)+(E16*V24*0)+(E17*W24*0))/100 -> 0 | F23: Mimostavenisková doprava 0% | P23: =((E15*X24*0)+(E16*Y24*0)+(E17*Z24*0))/100 -> 0 | U23: 1 | V23: 1 | W23: 0 | X23: 1 | Y23: 1 | Z23: 1
U24: 1 | V24: 1 | W24: 1 | X24: 1 | Y24: 1 | Z24: 0
F25: Spolu | P25: =SUM(E21:E24)+SUM(P21:P24) -> 0
B26: Projektant,rozpočtár | F26: Celkové náklady
F27: Celkové náklady bez DPH | P27: =E19+P19+E25+P25 -> 0
F28: DPH 20% z | H28: =P27-SUM('SO 14973'!K77:'SO 14973'!K105) -> 0 | P28: =ROUND(((ROUND(H28,2)*20)*1/100),2) -> 0
F29: DPH 0% z | H29: =SUM('SO 14973'!K77:'SO 14973'!K105) -> 0 | P29: =ROUND(((ROUND(H29,2)*0)/100),2) -> 0
F30: Spolu v EUR | P30: =SUM(P27:P29) -> 0
B32: Odberateľ | E32: Dodávateľ
B44: Rekapitulácia rozpočtu
B46: Odberateľ: Obec Žalobín | F46: Spracoval: Ing. Ján Halgaš
B47: Projektant: | F47: Ks:
B48: Dodávateľ: | F48: Dátum: 24. 8. 2020
B49: Stavba Obec Žalobin - spevnené plochy
B50: Objekt 01 - Základná škola -spevnená plocha
B53: Prehľad rozpočtových nákladov
B54: Oddiel | E54: Montáž | F54: Materiál | G54: Spolu | H54: Hmotnosť (T) | I54: Suť (T)
B55: Práce HSV
B56: ZEMNÉ PRÁCE | E56: ='SO 14973'!L84 -> 0 | F56: ='SO 14973'!M84 -> 0 | G56: ='SO 14973'!I84 -> 0 | H56: ='SO 14973'!S84 -> 0 | I56: ='SO 14973'!V84 -> 0
...

Sheet SO 14974
B1: Krycí list rozpočtu | E1: Rekapitulácia rozpočtu | H1: Rozpočet | W1: 30.126
B2: Krycí list rozpočtu
B3: Stavba Obec Žalobin - spevnené plochy
B4: Objekt 02 - Miestna komunikácia | F4: Miesto:
F5: Ks:
B6: Zákazka: | D6: Spracoval: Ing. Ján Halgaš | F6: Dňa | G6: 24. 8. 2020
B7: Odberateľ: Obec Žalobín
B8: IČO: | F8: DIČ:
B9: Projektant:
B10: IČO: | F10: DIČ:
B11: Dodávateľ:
B12: IČO: | F12: DIČ:
B14: ZRN | C14: Montáž | D14: Materiál | E14: ZRN spolu | F14: Ďalšie náklady
B15: HSV | C15: ='SO 14974'!E59 -> 0 | D15: ='SO 14974'!F59 -> 0 | E15: ='SO 14974'!G59 -> 0 | F15: Ostatné náklady | P15: 0
B16: PSV | F16: Komplet. činnosť | P16: =(SUM(Z76:Z93)) -> 0
B17: MONT | F17: HZS | P17: 0
B18: VRN
B19: Spolu | E19: =SUM(E15:E18) -> 0 | F19: Spolu | P19: =SUM(P15:P18) -> 0
B20: VRN | F20: VRN
B21: Zariadenie staveniska 0% | E21: =((E15*U22*0)+(E16*V22*0)+(E17*W22*0))/100 -> 0 | F21: Sťažené podmienky dopravy 0% | P21: =((E15*X22*0)+(E16*Y22*0)+(E17*Z22*0))/100 -> 0
B22: Sťažené výrobné podmienky 0% | E22: =((E15*U23*0)+(E16*V23*0)+(E17*W23*0))/100 -> 0 | F22: Horské oblasti 0% | P22: =((E15*X23*0)+(E16*Y23*0)+(E17*Z23*0))/100 -> 0 | U22: 1 | V22: 1 | W22: 1 | X22: 1 | Y22: 1 | Z22: 1
B23: Prevádzkové vplyvy 0% | E23: =((E15*U24*0)+(E16*V24*0)+(E17*W24*0))/100 -> 0 | F23: Mimostavenisková doprava 0% | P23: =((E15*X24*0)+(E16*Y24*0)+(E17*Z24*0))/100 -> 0 | U23: 1 | V23: 1 | W23: 0 | X23: 1 | Y23: 1 | Z23: 1
U24: 1 | V24: 1 | W24: 1 | X24: 1 | Y24: 1 | Z24: 0
F25: Spolu | P25: =SUM(E21:E24)+SUM(P21:P24) -> 0
B26: Projektant,rozpočtár | F26: Celkové náklady
F27: Celkové náklady bez DPH | P27: =E19+P19+E25+P25 -> 0
F28: DPH 20% z | H28: =P27-SUM('SO 14974'!K76:'SO 14974'!K93) -> 0 | P28: =ROUND(((ROUND(H28,2)*20)*1/100),2) -> 0
F29: DPH 0% z | H29: =SUM('SO 14974'!K76:'SO 14974'!K93) -> 0 | P29: =ROUND(((ROUND(H29,2)*0)/100),2) -> 0
F30: Spolu v EUR | P30: =SUM(P27:P29) -> 0
B32: Odberateľ | E32: Dodávateľ
B44: Rekapitulácia rozpočtu
B46: Odberateľ: Obec Žalobín | F46: Spracoval: Ing. Ján Halgaš
B47: Projektant: | F47: Ks:
B48: Dodávateľ: | F48: Dátum: 24. 8. 2020
B49: Stavba Obec Žalobin - spevnené plochy
B50: Objekt 02 - Miestna komunikácia
B53: Prehľad rozpočtových nákladov
B54: Oddiel | E54: Montáž | F54: Materiál | G54: Spolu | H54: Hmotnosť (T) | I54: Suť (T)
B55: Práce HSV
B56: ZEMNÉ PRÁCE | E56: ='SO 14974'!L81 -> 0 | F56: ='SO 14974'!M81 -> 0 | G56: ='SO 14974'!I81 -> 0 | H56: ='SO 14974'!S81 -> 0 | I56: ='SO 14974'!V81 -> 0
...
